BEGIN:VCALENDAR
VERSION:2.0
PRODID:-//Memphis/Germantown Art League - ECPv6.15.20//NONSGML v1.0//EN
CALSCALE:GREGORIAN
METHOD:PUBLISH
X-ORIGINAL-URL:https://mgal.org
X-WR-CALDESC:Events for Memphis/Germantown Art League
REFRESH-INTERVAL;VALUE=DURATION:PT1H
X-Robots-Tag:noindex
X-PUBLISHED-TTL:PT1H
BEGIN:VTIMEZONE
TZID:America/Chicago
BEGIN:DAYLIGHT
TZOFFSETFROM:-0600
TZOFFSETTO:-0500
TZNAME:CDT
DTSTART:20240310T080000
END:DAYLIGHT
BEGIN:STANDARD
TZOFFSETFROM:-0500
TZOFFSETTO:-0600
TZNAME:CST
DTSTART:20241103T070000
END:STANDARD
BEGIN:DAYLIGHT
TZOFFSETFROM:-0600
TZOFFSETTO:-0500
TZNAME:CDT
DTSTART:20250309T080000
END:DAYLIGHT
BEGIN:STANDARD
TZOFFSETFROM:-0500
TZOFFSETTO:-0600
TZNAME:CST
DTSTART:20251102T070000
END:STANDARD
BEGIN:DAYLIGHT
TZOFFSETFROM:-0600
TZOFFSETTO:-0500
TZNAME:CDT
DTSTART:20260308T080000
END:DAYLIGHT
BEGIN:STANDARD
TZOFFSETFROM:-0500
TZOFFSETTO:-0600
TZNAME:CST
DTSTART:20261101T070000
END:STANDARD
END:VTIMEZONE
BEGIN:VEVENT
DTSTART;TZID=America/Chicago:20250315T090000
DTEND;TZID=America/Chicago:20250315T150000
DTSTAMP:20260423T150619
CREATED:20250125T221937Z
LAST-MODIFIED:20250210T231608Z
UID:13025-1742029200-1742050800@mgal.org
SUMMARY:MGAL Workshop: Maritza Davila
DESCRIPTION:Only 10 Spots Available!Register at mgal.org/classes Maritza’s Monotype WorkshopDate:       Saturday\, June 7th\, 2025Time:       1:00 PM to 4:00 PMPlace:      Atabeira Press Studio\, 3233 North Waynoka\, Memphis\, TN 38111Cost:        $50 Members\, $80 Non-Members (includes all supplies)Other:      Bring your own Apron 								\n				\n				\n				\n									Class size will be limited to 10 participantsClass slots will be filled in the order of registrationA wait list will be created when the 10 slots are filled
URL:https://mgal.org/event/maritza-davila/
LOCATION:Atabeira Press Studio\, 3233 North Waynoka\, Memphis\, TN\, 38111\, United States
CATEGORIES:Workshops
ATTACH;FMTTYPE=image/png:https://mgal.org/wp-content/uploads/2025/02/TEC3.png
ORGANIZER;CN="Melody Weintraub":MAILTO:melodyw123@yahoo.com
END:VEVENT
END:VCALENDAR